BEGIN:VCALENDAR
VERSION:2.0
PRODID:-//Research &amp; Grad-Ed - ECPv6.15.20//NONSGML v1.0//EN
CALSCALE:GREGORIAN
METHOD:PUBLISH
X-ORIGINAL-URL:https://research-grad-ed.uwmedicine.org
X-WR-CALDESC:Events for Research &amp; Grad-Ed
REFRESH-INTERVAL;VALUE=DURATION:PT1H
X-Robots-Tag:noindex
X-PUBLISHED-TTL:PT1H
BEGIN:VTIMEZONE
TZID:America/Los_Angeles
BEGIN:DAYLIGHT
TZOFFSETFROM:-0800
TZOFFSETTO:-0700
TZNAME:PDT
DTSTART:20240310T100000
END:DAYLIGHT
BEGIN:STANDARD
TZOFFSETFROM:-0700
TZOFFSETTO:-0800
TZNAME:PST
DTSTART:20241103T090000
END:STANDARD
BEGIN:DAYLIGHT
TZOFFSETFROM:-0800
TZOFFSETTO:-0700
TZNAME:PDT
DTSTART:20250309T100000
END:DAYLIGHT
BEGIN:STANDARD
TZOFFSETFROM:-0700
TZOFFSETTO:-0800
TZNAME:PST
DTSTART:20251102T090000
END:STANDARD
BEGIN:DAYLIGHT
TZOFFSETFROM:-0800
TZOFFSETTO:-0700
TZNAME:PDT
DTSTART:20260308T100000
END:DAYLIGHT
BEGIN:STANDARD
TZOFFSETFROM:-0700
TZOFFSETTO:-0800
TZNAME:PST
DTSTART:20261101T090000
END:STANDARD
END:VTIMEZONE
BEGIN:VEVENT
DTSTART;VALUE=DATE:20251222
DTEND;VALUE=DATE:20251223
DTSTAMP:20260421T095409
CREATED:20251121T162154Z
LAST-MODIFIED:20251121T162154Z
UID:6108-1766361600-1766447999@research-grad-ed.uwmedicine.org
SUMMARY:Deadline: ITHS TL1 Translational Research Training Program
DESCRIPTION:The ITHS TL1 program is a one-year mentored research training program in translational science for predoctoral students. This program creates a cross-disciplinary community of emerging researchers and provides them with specific training\, career development opportunities\, and team science skills to help them function effectively within translational science teams. \nThe TL1 program is open to applicants from all disciplines and backgrounds who meet the eligibility criteria. \nThrough a combination of thoughtful mentorship\, interdisciplinary interaction\, and focused training\, TL1 Trainees develop the skills needed to become impactful translational researchers. \nKey Dates \n\nRFA Open: November 3\, 2025\nApplication Deadline: December 22\, 2025\nNotification of Awards: March 31\, 2026\nProgram Start and End Dates: June 16\, 2026 – June 15\, 2027\n\nFor more information\, visit the ITHS TL1 Program Website.
URL:https://research-grad-ed.uwmedicine.org/event/deadline-iths-tl1-translational-research-training-program/
CATEGORIES:Deadline
ATTACH;FMTTYPE=image/png:https://research-grad-ed.uwmedicine.org/wp-content/uploads/2024/08/Deadline-Icon.png
END:VEVENT
END:VCALENDAR