BEGIN:VCALENDAR
VERSION:2.0
PRODID:-//Research &amp; Grad-Ed - ECPv6.15.20//NONSGML v1.0//EN
CALSCALE:GREGORIAN
METHOD:PUBLISH
X-ORIGINAL-URL:https://research-grad-ed.uwmedicine.org
X-WR-CALDESC:Events for Research &amp; Grad-Ed
REFRESH-INTERVAL;VALUE=DURATION:PT1H
X-Robots-Tag:noindex
X-PUBLISHED-TTL:PT1H
BEGIN:VTIMEZONE
TZID:America/Los_Angeles
BEGIN:DAYLIGHT
TZOFFSETFROM:-0800
TZOFFSETTO:-0700
TZNAME:PDT
DTSTART:20250309T100000
END:DAYLIGHT
BEGIN:STANDARD
TZOFFSETFROM:-0700
TZOFFSETTO:-0800
TZNAME:PST
DTSTART:20251102T090000
END:STANDARD
BEGIN:DAYLIGHT
TZOFFSETFROM:-0800
TZOFFSETTO:-0700
TZNAME:PDT
DTSTART:20260308T100000
END:DAYLIGHT
BEGIN:STANDARD
TZOFFSETFROM:-0700
TZOFFSETTO:-0800
TZNAME:PST
DTSTART:20261101T090000
END:STANDARD
BEGIN:DAYLIGHT
TZOFFSETFROM:-0800
TZOFFSETTO:-0700
TZNAME:PDT
DTSTART:20270314T100000
END:DAYLIGHT
BEGIN:STANDARD
TZOFFSETFROM:-0700
TZOFFSETTO:-0800
TZNAME:PST
DTSTART:20271107T090000
END:STANDARD
END:VTIMEZONE
BEGIN:VEVENT
DTSTART;TZID=America/Los_Angeles:20260219T140000
DTEND;TZID=America/Los_Angeles:20260219T150000
DTSTAMP:20260420T224314
CREATED:20260203T183857Z
LAST-MODIFIED:20260203T183857Z
UID:6195-1771509600-1771513200@research-grad-ed.uwmedicine.org
SUMMARY:Entrepreneurship for International Graduate Students: Buerk Center Info. Session
DESCRIPTION:Feb 19\, 2 – 3 p.m.\nFounders Hall Room 490 (Google map)\, UW Seattle Campus\nRegister \nHave you ever wondered how entrepreneurship or the startup world could fit into your research or career plans? Want to meet other like-minded international graduate students across campus? \nUW CIRCLE has partnered with the Buerk Center for Entrepreneurship in the Foster School of Business to bring you an informational session just for international graduate students. Learn about the many opportunities available—from classes and fellowships to startup competitions—that can help you explore entrepreneurship\, sharpen your skills\, or even launch your own venture. \nNo matter your discipline or experience level\, the Buerk Center offers ways to turn curiosity into action. Come discover how entrepreneurial thinking can power your graduate journey! \nNote for those who attended the information session in October: Some of the content covered in this session will be the same as the one in October. We will dig into the Dempsey Startup Competition and summer fellowship opportunities in the February session. \nCo-sponsored by the Buerk Center for Entrepreneurship and the Center for International Relations & Cultural Leadership Exchange (CIRCLE). \nSend questions to Ziyan Bai\, CIRCLE Assistant Director of Graduate Programs & Operations at baiziyan@uw.edu.
URL:https://research-grad-ed.uwmedicine.org/event/entrepreneurship-for-international-graduate-students-buerk-center-info-session/
LOCATION:Founders Hall
CATEGORIES:Info Session
ATTACH;FMTTYPE=image/png:https://research-grad-ed.uwmedicine.org/wp-content/uploads/2025/08/SPEAKER-SERIES-1.png
END:VEVENT
END:VCALENDAR