BEGIN:VCALENDAR
VERSION:2.0
PRODID:-//Research &amp; Grad-Ed - ECPv6.15.20//NONSGML v1.0//EN
CALSCALE:GREGORIAN
METHOD:PUBLISH
X-ORIGINAL-URL:https://research-grad-ed.uwmedicine.org
X-WR-CALDESC:Events for Research &amp; Grad-Ed
REFRESH-INTERVAL;VALUE=DURATION:PT1H
X-Robots-Tag:noindex
X-PUBLISHED-TTL:PT1H
BEGIN:VTIMEZONE
TZID:America/Los_Angeles
BEGIN:DAYLIGHT
TZOFFSETFROM:-0800
TZOFFSETTO:-0700
TZNAME:PDT
DTSTART:20250309T100000
END:DAYLIGHT
BEGIN:STANDARD
TZOFFSETFROM:-0700
TZOFFSETTO:-0800
TZNAME:PST
DTSTART:20251102T090000
END:STANDARD
BEGIN:DAYLIGHT
TZOFFSETFROM:-0800
TZOFFSETTO:-0700
TZNAME:PDT
DTSTART:20260308T100000
END:DAYLIGHT
BEGIN:STANDARD
TZOFFSETFROM:-0700
TZOFFSETTO:-0800
TZNAME:PST
DTSTART:20261101T090000
END:STANDARD
BEGIN:DAYLIGHT
TZOFFSETFROM:-0800
TZOFFSETTO:-0700
TZNAME:PDT
DTSTART:20270314T100000
END:DAYLIGHT
BEGIN:STANDARD
TZOFFSETFROM:-0700
TZOFFSETTO:-0800
TZNAME:PST
DTSTART:20271107T090000
END:STANDARD
END:VTIMEZONE
BEGIN:VEVENT
DTSTART;TZID=America/Los_Angeles:20260326T100000
DTEND;TZID=America/Los_Angeles:20260326T113000
DTSTAMP:20260422T172839
CREATED:20260311T201209Z
LAST-MODIFIED:20260311T201209Z
UID:6228-1774519200-1774524600@research-grad-ed.uwmedicine.org
SUMMARY:Working with Industry: An Information Session for UW Researchers
DESCRIPTION:Join staff from the Office of Research\, CoMotion and Corporate and Foundation Relations for an information and Q&A session on how they work to help UW researchers partner with industry.  Topics include: Key units\, roles\, and resources that assist industry research collaboration; How companies approach partnerships; Types of research-related agreements; Terms and conditions to understand; Navigating the agreement process. \nHOSTS: \n\nMari Ostendorf\, Vice Provost for Research\nJoanna Glickler\, Assistant Vice President\, Corporate & Foundation Relations\nFrancois Baneyx\, Vice Provost for Innovation & CoMotion Director\n\nPRESENTERS: \n\nMark Cabrales\, Senior Director for Corporate Relations\nMeredith Reynolds\, Licensing Specialist\, CoMotion & OSP\nHogan Ricks\, Senior Contract Specialist\, OSP\nNate Sniadecki\, Professor Mechanical Engineering\, Chair\, Advisory Committee on Intellectual Property Policy and Practice\n\nKEY DETAILS: \nDate: Thursday\, March 26\, 2026\nTime: 10-11:30 am Pacific Time\nLocation: Online via Zoom \nOpen to UW Faculty and Staff only \nRegistrants will receive an email with Zoom details prior to the session. \nREGISTER TODAY >>> \n 
URL:https://research-grad-ed.uwmedicine.org/event/working-with-industry-an-information-session-for-uw-researchers/
LOCATION:Zoom Webinar
CATEGORIES:Information Session
ATTACH;FMTTYPE=image/png:https://research-grad-ed.uwmedicine.org/wp-content/uploads/2025/08/SPEAKER-SERIES-1.png
END:VEVENT
END:VCALENDAR