BEGIN:VCALENDAR
VERSION:2.0
PRODID:-//Research &amp; Grad-Ed - ECPv6.15.20//NONSGML v1.0//EN
CALSCALE:GREGORIAN
METHOD:PUBLISH
X-WR-CALNAME:Research &amp; Grad-Ed
X-ORIGINAL-URL:https://research-grad-ed.uwmedicine.org
X-WR-CALDESC:Events for Research &amp; Grad-Ed
REFRESH-INTERVAL;VALUE=DURATION:PT1H
X-Robots-Tag:noindex
X-PUBLISHED-TTL:PT1H
BEGIN:VTIMEZONE
TZID:America/Los_Angeles
BEGIN:DAYLIGHT
TZOFFSETFROM:-0800
TZOFFSETTO:-0700
TZNAME:PDT
DTSTART:20250309T100000
END:DAYLIGHT
BEGIN:STANDARD
TZOFFSETFROM:-0700
TZOFFSETTO:-0800
TZNAME:PST
DTSTART:20251102T090000
END:STANDARD
BEGIN:DAYLIGHT
TZOFFSETFROM:-0800
TZOFFSETTO:-0700
TZNAME:PDT
DTSTART:20260308T100000
END:DAYLIGHT
BEGIN:STANDARD
TZOFFSETFROM:-0700
TZOFFSETTO:-0800
TZNAME:PST
DTSTART:20261101T090000
END:STANDARD
BEGIN:DAYLIGHT
TZOFFSETFROM:-0800
TZOFFSETTO:-0700
TZNAME:PDT
DTSTART:20270314T100000
END:DAYLIGHT
BEGIN:STANDARD
TZOFFSETFROM:-0700
TZOFFSETTO:-0800
TZNAME:PST
DTSTART:20271107T090000
END:STANDARD
END:VTIMEZONE
BEGIN:VEVENT
DTSTART;TZID=America/Los_Angeles:20260402T120000
DTEND;TZID=America/Los_Angeles:20260402T140000
DTSTAMP:20260422T123810
CREATED:20260324T183007Z
LAST-MODIFIED:20260324T183007Z
UID:6247-1775131200-1775138400@research-grad-ed.uwmedicine.org
SUMMARY:Latinx Affinity Group: Cafecito y Conversación
DESCRIPTION:The Latinx Affinity Group invites you to join them for Cafecito y Conversación! Please make sure to RSVP using the link or QR code below. If you have any questions\, please reach out to gradst_postdoc_affinity_latinx@u.washington.edu. \nThis event is open to all graduate students and postdocs.
URL:https://research-grad-ed.uwmedicine.org/event/latinx-affinity-group-cafecito-y-conversacion/
LOCATION:Grumpy Bean Coffee\, 910 Stewart St\, Seattle\, WA\, 98101\, United States
CATEGORIES:UWSOM Affinity Groups
ATTACH;FMTTYPE=image/png:https://research-grad-ed.uwmedicine.org/wp-content/uploads/2025/01/Affinity-Groups.png
END:VEVENT
END:VCALENDAR