BEGIN:VCALENDAR
VERSION:2.0
PRODID:-//Research and Grad-Ed - ECPv6.15.20//NONSGML v1.0//EN
CALSCALE:GREGORIAN
METHOD:PUBLISH
X-WR-CALNAME:Research and Grad-Ed
X-ORIGINAL-URL:https://research-grad-ed.uwmedicine.org
X-WR-CALDESC:Events for Research and Grad-Ed
REFRESH-INTERVAL;VALUE=DURATION:PT1H
X-Robots-Tag:noindex
X-PUBLISHED-TTL:PT1H
BEGIN:VTIMEZONE
TZID:America/Los_Angeles
BEGIN:DAYLIGHT
TZOFFSETFROM:-0800
TZOFFSETTO:-0700
TZNAME:PDT
DTSTART:20250309T100000
END:DAYLIGHT
BEGIN:STANDARD
TZOFFSETFROM:-0700
TZOFFSETTO:-0800
TZNAME:PST
DTSTART:20251102T090000
END:STANDARD
BEGIN:DAYLIGHT
TZOFFSETFROM:-0800
TZOFFSETTO:-0700
TZNAME:PDT
DTSTART:20260308T100000
END:DAYLIGHT
BEGIN:STANDARD
TZOFFSETFROM:-0700
TZOFFSETTO:-0800
TZNAME:PST
DTSTART:20261101T090000
END:STANDARD
BEGIN:DAYLIGHT
TZOFFSETFROM:-0800
TZOFFSETTO:-0700
TZNAME:PDT
DTSTART:20270314T100000
END:DAYLIGHT
BEGIN:STANDARD
TZOFFSETFROM:-0700
TZOFFSETTO:-0800
TZNAME:PST
DTSTART:20271107T090000
END:STANDARD
END:VTIMEZONE
BEGIN:VEVENT
DTSTART;TZID=America/Los_Angeles:20260206T120000
DTEND;TZID=America/Los_Angeles:20260206T130000
DTSTAMP:20260425T153555
CREATED:20260127T183448Z
LAST-MODIFIED:20260127T183523Z
UID:6168-1770379200-1770382800@research-grad-ed.uwmedicine.org
SUMMARY:Fundamentals for Startups: Amit Chopra\, Innovation Advocate
DESCRIPTION:Fundamentals for Startups\, hosted by CoMotion Labs\, is open to anyone interested in learning about entrepreneurship and building a startup. From raising capital to scaling to exit strategies\, these presentations feature experienced entrepreneurs\, investors\, and industry experts who share startup-related information\, experience\, and insights. See our winter line up and register below. \nLEARN MORE AND REGISTER >>> \n\nAmit Chopra\, founder\, the Innovation Advocate\n\n\n\n\n\n\n\n\n\n\n\n\n\n\n\n\nBuilding products the big-tech way: mindsets and methods every startup founder should know\n\n\n\n\n\nThis session distills nearly 30 years of building products inside Microsoft\, Google\, Meta\, and Amazon\, combined with hands-on mentoring of early-stage founders—into practical lessons entrepreneurs can immediately apply. \nAmit Chopra\, founder\, Innovation Advocate\, will share how the world’s most innovative companies think about product\, customers\, and long-term value\, and how founders can adopt those mindsets early\, without slowing themselves down. \nRather than theory\, the talk focuses on real frameworks used in Big Tech such as Amazon’s PR/FAQ\, Google’s design sprints\, and Meta’s Move fast approach\, and product excellence patterns across multiple companies to help founders avoid common early-stage traps around prioritization\, execution\, and scaling. \nThe goal is simple: help startups think beyond the MVP and build products that are resilient\, customer-driven\, and designed to scale borrowing the DNA of Big Tech without inheriting its bureaucracy.
URL:https://research-grad-ed.uwmedicine.org/event/fundamentals-for-startups-amit-chopra-innovation-advocate/
LOCATION:Startup Hall (Condon Hall)\, 1100 NE Campus Pkwy\, Seattle\, WA\, 98105\, United States
CATEGORIES:University of Washington Events
ATTACH;FMTTYPE=image/png:https://research-grad-ed.uwmedicine.org/wp-content/uploads/2024/04/Calendar_UW-Event.png
END:VEVENT
END:VCALENDAR