BEGIN:VCALENDAR
VERSION:2.0
PRODID:-//Research &amp; Grad-Ed - ECPv6.15.20//NONSGML v1.0//EN
CALSCALE:GREGORIAN
METHOD:PUBLISH
X-WR-CALNAME:Research &amp; Grad-Ed
X-ORIGINAL-URL:https://research-grad-ed.uwmedicine.org
X-WR-CALDESC:Events for Research &amp; Grad-Ed
REFRESH-INTERVAL;VALUE=DURATION:PT1H
X-Robots-Tag:noindex
X-PUBLISHED-TTL:PT1H
BEGIN:VTIMEZONE
TZID:America/Los_Angeles
BEGIN:DAYLIGHT
TZOFFSETFROM:-0800
TZOFFSETTO:-0700
TZNAME:PDT
DTSTART:20250309T100000
END:DAYLIGHT
BEGIN:STANDARD
TZOFFSETFROM:-0700
TZOFFSETTO:-0800
TZNAME:PST
DTSTART:20251102T090000
END:STANDARD
BEGIN:DAYLIGHT
TZOFFSETFROM:-0800
TZOFFSETTO:-0700
TZNAME:PDT
DTSTART:20260308T100000
END:DAYLIGHT
BEGIN:STANDARD
TZOFFSETFROM:-0700
TZOFFSETTO:-0800
TZNAME:PST
DTSTART:20261101T090000
END:STANDARD
BEGIN:DAYLIGHT
TZOFFSETFROM:-0800
TZOFFSETTO:-0700
TZNAME:PDT
DTSTART:20270314T100000
END:DAYLIGHT
BEGIN:STANDARD
TZOFFSETFROM:-0700
TZOFFSETTO:-0800
TZNAME:PST
DTSTART:20271107T090000
END:STANDARD
END:VTIMEZONE
BEGIN:VEVENT
DTSTART;TZID=America/Los_Angeles:20260220T120000
DTEND;TZID=America/Los_Angeles:20260220T130000
DTSTAMP:20260421T104253
CREATED:20260127T183845Z
LAST-MODIFIED:20260127T184019Z
UID:6170-1771588800-1771592400@research-grad-ed.uwmedicine.org
SUMMARY:Fundamentals for Startups: Lubica Lutz
DESCRIPTION:Fundamentals for Startups\, hosted by CoMotion Labs\, is open to anyone interested in learning about entrepreneurship and building a startup. From raising capital to scaling to exit strategies\, these presentations feature experienced entrepreneurs\, investors\, and industry experts who share startup-related information\, experience\, and insights. See our winter line up and register below. \nLEARN MORE AND REGISTER >>> \n\n\n\nLubica Lutz \n\n\n\n\n\n\n\n\n\n\n\n\n\n\nWhen you don’t need a perfect (startup) idea- you need empathy\n\n\n\n\n\nMost ideas don’t fail because they lack funding\, or ambition. They fail because they are built on assumptions about people. \nHuman-Centered Design (HCD) is a research-backed method that reduces risk early by shifting focus from finding the right solution to asking better questions. It uses empathy to learn directly from the people you aim to serve\, instead of guessing stakeholder needs. \nIn this 60-minute lecture\, Lubica Lutz introduces Human-Centered Design as a practical tool for moving ideas forward with clarity\, whether you are launching a startup\, translating research into impact\, or shaping a new program inside an organization. Empathy is no longer a “soft skill”. It is your strategic team-member. \nThe lecture is intentionally designed for a mixed audience: \n\nfounders and early startup teams\nresearchers and scientists exploring real-world application\nstudents\, public and first-time idea-makers\nemployees developing new initiatives within organisations (“intrapreneurs)\n\nNo prior startup or design experience is required — and experienced innovators will still gain sharper fast techniques\, and fresh perspective.
URL:https://research-grad-ed.uwmedicine.org/event/fundamentals-for-startups-lubica-lutz/
LOCATION:Startup Hall (Condon Hall)\, 1100 NE Campus Pkwy\, Seattle\, WA\, 98105\, United States
CATEGORIES:University of Washington Events
ATTACH;FMTTYPE=image/png:https://research-grad-ed.uwmedicine.org/wp-content/uploads/2024/04/Calendar_UW-Event.png
END:VEVENT
END:VCALENDAR